BEGIN:VCALENDAR
VERSION:2.0
PRODID:-//Gère ta poubelle - ECPv6.15.18//NONSGML v1.0//EN
CALSCALE:GREGORIAN
METHOD:PUBLISH
X-WR-CALNAME:Gère ta poubelle
X-ORIGINAL-URL:https://geretapoubelle.ca
X-WR-CALDESC:Évènements pour Gère ta poubelle
REFRESH-INTERVAL;VALUE=DURATION:PT1H
X-Robots-Tag:noindex
X-PUBLISHED-TTL:PT1H
BEGIN:VTIMEZONE
TZID:America/Toronto
BEGIN:DAYLIGHT
TZOFFSETFROM:-0500
TZOFFSETTO:-0400
TZNAME:EDT
DTSTART:20240310T070000
END:DAYLIGHT
BEGIN:STANDARD
TZOFFSETFROM:-0400
TZOFFSETTO:-0500
TZNAME:EST
DTSTART:20241103T060000
END:STANDARD
BEGIN:DAYLIGHT
TZOFFSETFROM:-0500
TZOFFSETTO:-0400
TZNAME:EDT
DTSTART:20250309T070000
END:DAYLIGHT
BEGIN:STANDARD
TZOFFSETFROM:-0400
TZOFFSETTO:-0500
TZNAME:EST
DTSTART:20251102T060000
END:STANDARD
BEGIN:DAYLIGHT
TZOFFSETFROM:-0500
TZOFFSETTO:-0400
TZNAME:EDT
DTSTART:20260308T070000
END:DAYLIGHT
BEGIN:STANDARD
TZOFFSETFROM:-0400
TZOFFSETTO:-0500
TZNAME:EST
DTSTART:20261101T060000
END:STANDARD
END:VTIMEZONE
BEGIN:VEVENT
DTSTART;VALUE=DATE:20251002
DTEND;VALUE=DATE:20251003
DTSTAMP:20260419T150937
CREATED:20241115T164908Z
LAST-MODIFIED:20251113T213202Z
UID:10008374-1759363200-1759449599@geretapoubelle.ca
SUMMARY:Bac brun
DESCRIPTION:
URL:https://geretapoubelle.ca/collecte/bac-brun-3/2025-10-02/
CATEGORIES:Drummondville - Secteur F
ATTACH;FMTTYPE=image/png:https://geretapoubelle.ca/wp-content/uploads/Bac-Brun.png
BEGIN:VALARM
TRIGGER:-PT9H
ACTION:DISPLAY
DESCRIPTION:Rappel : collecte des déchets dans 9 heures
END:VALARM
END:VEVENT
BEGIN:VEVENT
DTSTART;VALUE=DATE:20251009
DTEND;VALUE=DATE:20251010
DTSTAMP:20260419T150937
CREATED:20241115T164316Z
LAST-MODIFIED:20241210T192719Z
UID:10008319-1759968000-1760054399@geretapoubelle.ca
SUMMARY:Bac de récupération
DESCRIPTION:
URL:https://geretapoubelle.ca/collecte/bac-de-recuperation-6/2025-10-09/
CATEGORIES:Drummondville - Secteur F
ATTACH;FMTTYPE=image/png:https://geretapoubelle.ca/wp-content/uploads/2022/04/bac-recuperation_Plan-de-travail-1.png
BEGIN:VALARM
TRIGGER:-PT9H
ACTION:DISPLAY
DESCRIPTION:Rappel : collecte des déchets dans 9 heures
END:VALARM
END:VEVENT
BEGIN:VEVENT
DTSTART;VALUE=DATE:20251009
DTEND;VALUE=DATE:20251010
DTSTAMP:20260419T150937
CREATED:20241115T164908Z
LAST-MODIFIED:20251113T213202Z
UID:10008375-1759968000-1760054399@geretapoubelle.ca
SUMMARY:Bac brun
DESCRIPTION:
URL:https://geretapoubelle.ca/collecte/bac-brun-3/2025-10-09/
CATEGORIES:Drummondville - Secteur F
ATTACH;FMTTYPE=image/png:https://geretapoubelle.ca/wp-content/uploads/Bac-Brun.png
BEGIN:VALARM
TRIGGER:-PT9H
ACTION:DISPLAY
DESCRIPTION:Rappel : collecte des déchets dans 9 heures
END:VALARM
END:VEVENT
BEGIN:VEVENT
DTSTART;VALUE=DATE:20251015
DTEND;VALUE=DATE:20251016
DTSTAMP:20260419T150937
CREATED:20241115T164511Z
LAST-MODIFIED:20241118T161057Z
UID:10008338-1760486400-1760572799@geretapoubelle.ca
SUMMARY:Bac gris
DESCRIPTION:
URL:https://geretapoubelle.ca/collecte/bac-gris-4/2025-10-15/
CATEGORIES:Drummondville - Secteur F
ATTACH;FMTTYPE=image/png:https://geretapoubelle.ca/wp-content/uploads/2022/03/Bac-Gris.png
BEGIN:VALARM
TRIGGER:-PT9H
ACTION:DISPLAY
DESCRIPTION:Rappel : collecte des déchets dans 9 heures
END:VALARM
END:VEVENT
BEGIN:VEVENT
DTSTART;VALUE=DATE:20251016
DTEND;VALUE=DATE:20251017
DTSTAMP:20260419T150937
CREATED:20241115T163431Z
LAST-MODIFIED:20241118T160951Z
UID:10008295-1760572800-1760659199@geretapoubelle.ca
SUMMARY:Surplus de feuilles
DESCRIPTION:
URL:https://geretapoubelle.ca/collecte/surplus-de-feuilles-13/2025-10-16/
CATEGORIES:Drummondville - Secteur F
ATTACH;FMTTYPE=image/png:https://geretapoubelle.ca/wp-content/uploads/2022/11/Icone_Feuilles_Guide.png
BEGIN:VALARM
TRIGGER:-PT9H
ACTION:DISPLAY
DESCRIPTION:Rappel : collecte des déchets dans 9 heures
END:VALARM
END:VEVENT
BEGIN:VEVENT
DTSTART;VALUE=DATE:20251016
DTEND;VALUE=DATE:20251017
DTSTAMP:20260419T150937
CREATED:20241115T164908Z
LAST-MODIFIED:20251113T213202Z
UID:10008376-1760572800-1760659199@geretapoubelle.ca
SUMMARY:Bac brun
DESCRIPTION:
URL:https://geretapoubelle.ca/collecte/bac-brun-3/2025-10-16/
CATEGORIES:Drummondville - Secteur F
ATTACH;FMTTYPE=image/png:https://geretapoubelle.ca/wp-content/uploads/Bac-Brun.png
BEGIN:VALARM
TRIGGER:-PT9H
ACTION:DISPLAY
DESCRIPTION:Rappel : collecte des déchets dans 9 heures
END:VALARM
END:VEVENT
BEGIN:VEVENT
DTSTART;VALUE=DATE:20251023
DTEND;VALUE=DATE:20251024
DTSTAMP:20260419T150937
CREATED:20241115T164316Z
LAST-MODIFIED:20241210T192719Z
UID:10008320-1761177600-1761263999@geretapoubelle.ca
SUMMARY:Bac de récupération
DESCRIPTION:
URL:https://geretapoubelle.ca/collecte/bac-de-recuperation-6/2025-10-23/
CATEGORIES:Drummondville - Secteur F
ATTACH;FMTTYPE=image/png:https://geretapoubelle.ca/wp-content/uploads/2022/04/bac-recuperation_Plan-de-travail-1.png
BEGIN:VALARM
TRIGGER:-PT9H
ACTION:DISPLAY
DESCRIPTION:Rappel : collecte des déchets dans 9 heures
END:VALARM
END:VEVENT
BEGIN:VEVENT
DTSTART;VALUE=DATE:20251023
DTEND;VALUE=DATE:20251024
DTSTAMP:20260419T150937
CREATED:20241115T164908Z
LAST-MODIFIED:20251113T213202Z
UID:10008377-1761177600-1761263999@geretapoubelle.ca
SUMMARY:Bac brun
DESCRIPTION:
URL:https://geretapoubelle.ca/collecte/bac-brun-3/2025-10-23/
CATEGORIES:Drummondville - Secteur F
ATTACH;FMTTYPE=image/png:https://geretapoubelle.ca/wp-content/uploads/Bac-Brun.png
BEGIN:VALARM
TRIGGER:-PT9H
ACTION:DISPLAY
DESCRIPTION:Rappel : collecte des déchets dans 9 heures
END:VALARM
END:VEVENT
BEGIN:VEVENT
DTSTART;VALUE=DATE:20251030
DTEND;VALUE=DATE:20251031
DTSTAMP:20260419T150937
CREATED:20241115T164908Z
LAST-MODIFIED:20251113T213202Z
UID:10008378-1761782400-1761868799@geretapoubelle.ca
SUMMARY:Bac brun
DESCRIPTION:
URL:https://geretapoubelle.ca/collecte/bac-brun-3/2025-10-30/
CATEGORIES:Drummondville - Secteur F
ATTACH;FMTTYPE=image/png:https://geretapoubelle.ca/wp-content/uploads/Bac-Brun.png
BEGIN:VALARM
TRIGGER:-PT9H
ACTION:DISPLAY
DESCRIPTION:Rappel : collecte des déchets dans 9 heures
END:VALARM
END:VEVENT
END:VCALENDAR