BEGIN:VCALENDAR
VERSION:2.0
PRODID:-//Gère ta poubelle - ECPv6.15.18//NONSGML v1.0//EN
CALSCALE:GREGORIAN
METHOD:PUBLISH
X-WR-CALNAME:Gère ta poubelle
X-ORIGINAL-URL:https://geretapoubelle.ca
X-WR-CALDESC:Évènements pour Gère ta poubelle
REFRESH-INTERVAL;VALUE=DURATION:PT1H
X-Robots-Tag:noindex
X-PUBLISHED-TTL:PT1H
BEGIN:VTIMEZONE
TZID:America/Toronto
BEGIN:DAYLIGHT
TZOFFSETFROM:-0500
TZOFFSETTO:-0400
TZNAME:EDT
DTSTART:20250309T070000
END:DAYLIGHT
BEGIN:STANDARD
TZOFFSETFROM:-0400
TZOFFSETTO:-0500
TZNAME:EST
DTSTART:20251102T060000
END:STANDARD
BEGIN:DAYLIGHT
TZOFFSETFROM:-0500
TZOFFSETTO:-0400
TZNAME:EDT
DTSTART:20260308T070000
END:DAYLIGHT
BEGIN:STANDARD
TZOFFSETFROM:-0400
TZOFFSETTO:-0500
TZNAME:EST
DTSTART:20261101T060000
END:STANDARD
BEGIN:DAYLIGHT
TZOFFSETFROM:-0500
TZOFFSETTO:-0400
TZNAME:EDT
DTSTART:20270314T070000
END:DAYLIGHT
BEGIN:STANDARD
TZOFFSETFROM:-0400
TZOFFSETTO:-0500
TZNAME:EST
DTSTART:20271107T060000
END:STANDARD
END:VTIMEZONE
BEGIN:VEVENT
DTSTART;VALUE=DATE:20260903
DTEND;VALUE=DATE:20260904
DTSTAMP:20260419T133541
CREATED:20251103T204353Z
LAST-MODIFIED:20251117T192812Z
UID:10011854-1788393600-1788479999@geretapoubelle.ca
SUMMARY:Bac brun
DESCRIPTION:
URL:https://geretapoubelle.ca/collecte/bac-brun-82/2026-09-03/
CATEGORIES:Drummondville - Secteur F
ATTACH;FMTTYPE=image/png:https://geretapoubelle.ca/wp-content/uploads/2022/07/img_bacBrun.png
BEGIN:VALARM
TRIGGER:-PT9H
ACTION:DISPLAY
DESCRIPTION:Rappel : collecte des déchets dans 9 heures
END:VALARM
END:VEVENT
BEGIN:VEVENT
DTSTART;VALUE=DATE:20260910
DTEND;VALUE=DATE:20260911
DTSTAMP:20260419T133541
CREATED:20251103T160648Z
LAST-MODIFIED:20251103T160648Z
UID:10011312-1788998400-1789084799@geretapoubelle.ca
SUMMARY:Bac de récupération
DESCRIPTION:
URL:https://geretapoubelle.ca/collecte/bac-de-recuperation-29/2026-09-10/
CATEGORIES:Drummondville - Secteur F
ATTACH;FMTTYPE=image/png:https://geretapoubelle.ca/wp-content/uploads/2022/04/bac-recuperation_Plan-de-travail-1.png
BEGIN:VALARM
TRIGGER:-PT9H
ACTION:DISPLAY
DESCRIPTION:Rappel : collecte des déchets dans 9 heures
END:VALARM
END:VEVENT
BEGIN:VEVENT
DTSTART;VALUE=DATE:20260910
DTEND;VALUE=DATE:20260911
DTSTAMP:20260419T133541
CREATED:20251103T204353Z
LAST-MODIFIED:20251117T192812Z
UID:10011855-1788998400-1789084799@geretapoubelle.ca
SUMMARY:Bac brun
DESCRIPTION:
URL:https://geretapoubelle.ca/collecte/bac-brun-82/2026-09-10/
CATEGORIES:Drummondville - Secteur F
ATTACH;FMTTYPE=image/png:https://geretapoubelle.ca/wp-content/uploads/2022/07/img_bacBrun.png
BEGIN:VALARM
TRIGGER:-PT9H
ACTION:DISPLAY
DESCRIPTION:Rappel : collecte des déchets dans 9 heures
END:VALARM
END:VEVENT
BEGIN:VEVENT
DTSTART;VALUE=DATE:20260916
DTEND;VALUE=DATE:20260917
DTSTAMP:20260419T133541
CREATED:20251103T153504Z
LAST-MODIFIED:20251103T153504Z
UID:10010930-1789516800-1789603199@geretapoubelle.ca
SUMMARY:Bac gris
DESCRIPTION:
URL:https://geretapoubelle.ca/collecte/bac-gris-80/2026-09-16/
CATEGORIES:Drummondville - Secteur F
ATTACH;FMTTYPE=image/png:https://geretapoubelle.ca/wp-content/uploads/2022/03/Bac-Gris.png
BEGIN:VALARM
TRIGGER:-PT9H
ACTION:DISPLAY
DESCRIPTION:Rappel : collecte des déchets dans 9 heures
END:VALARM
END:VEVENT
BEGIN:VEVENT
DTSTART;VALUE=DATE:20260917
DTEND;VALUE=DATE:20260918
DTSTAMP:20260419T133541
CREATED:20251103T204353Z
LAST-MODIFIED:20251117T192812Z
UID:10011856-1789603200-1789689599@geretapoubelle.ca
SUMMARY:Bac brun
DESCRIPTION:
URL:https://geretapoubelle.ca/collecte/bac-brun-82/2026-09-17/
CATEGORIES:Drummondville - Secteur F
ATTACH;FMTTYPE=image/png:https://geretapoubelle.ca/wp-content/uploads/2022/07/img_bacBrun.png
BEGIN:VALARM
TRIGGER:-PT9H
ACTION:DISPLAY
DESCRIPTION:Rappel : collecte des déchets dans 9 heures
END:VALARM
END:VEVENT
BEGIN:VEVENT
DTSTART;VALUE=DATE:20260924
DTEND;VALUE=DATE:20260925
DTSTAMP:20260419T133541
CREATED:20251103T160648Z
LAST-MODIFIED:20251103T160648Z
UID:10011313-1790208000-1790294399@geretapoubelle.ca
SUMMARY:Bac de récupération
DESCRIPTION:
URL:https://geretapoubelle.ca/collecte/bac-de-recuperation-29/2026-09-24/
CATEGORIES:Drummondville - Secteur F
ATTACH;FMTTYPE=image/png:https://geretapoubelle.ca/wp-content/uploads/2022/04/bac-recuperation_Plan-de-travail-1.png
BEGIN:VALARM
TRIGGER:-PT9H
ACTION:DISPLAY
DESCRIPTION:Rappel : collecte des déchets dans 9 heures
END:VALARM
END:VEVENT
BEGIN:VEVENT
DTSTART;VALUE=DATE:20260924
DTEND;VALUE=DATE:20260925
DTSTAMP:20260419T133541
CREATED:20251103T204353Z
LAST-MODIFIED:20251117T192812Z
UID:10011857-1790208000-1790294399@geretapoubelle.ca
SUMMARY:Bac brun
DESCRIPTION:
URL:https://geretapoubelle.ca/collecte/bac-brun-82/2026-09-24/
CATEGORIES:Drummondville - Secteur F
ATTACH;FMTTYPE=image/png:https://geretapoubelle.ca/wp-content/uploads/2022/07/img_bacBrun.png
BEGIN:VALARM
TRIGGER:-PT9H
ACTION:DISPLAY
DESCRIPTION:Rappel : collecte des déchets dans 9 heures
END:VALARM
END:VEVENT
END:VCALENDAR