BEGIN:VCALENDAR
VERSION:2.0
PRODID:-//Gère ta poubelle - ECPv6.15.18//NONSGML v1.0//EN
CALSCALE:GREGORIAN
METHOD:PUBLISH
X-WR-CALNAME:Gère ta poubelle
X-ORIGINAL-URL:https://geretapoubelle.ca
X-WR-CALDESC:Évènements pour Gère ta poubelle
REFRESH-INTERVAL;VALUE=DURATION:PT1H
X-Robots-Tag:noindex
X-PUBLISHED-TTL:PT1H
BEGIN:VTIMEZONE
TZID:America/Toronto
BEGIN:DAYLIGHT
TZOFFSETFROM:-0500
TZOFFSETTO:-0400
TZNAME:EDT
DTSTART:20250309T070000
END:DAYLIGHT
BEGIN:STANDARD
TZOFFSETFROM:-0400
TZOFFSETTO:-0500
TZNAME:EST
DTSTART:20251102T060000
END:STANDARD
BEGIN:DAYLIGHT
TZOFFSETFROM:-0500
TZOFFSETTO:-0400
TZNAME:EDT
DTSTART:20260308T070000
END:DAYLIGHT
BEGIN:STANDARD
TZOFFSETFROM:-0400
TZOFFSETTO:-0500
TZNAME:EST
DTSTART:20261101T060000
END:STANDARD
BEGIN:DAYLIGHT
TZOFFSETFROM:-0500
TZOFFSETTO:-0400
TZNAME:EDT
DTSTART:20270314T070000
END:DAYLIGHT
BEGIN:STANDARD
TZOFFSETFROM:-0400
TZOFFSETTO:-0500
TZNAME:EST
DTSTART:20271107T060000
END:STANDARD
END:VTIMEZONE
BEGIN:VEVENT
DTSTART;VALUE=DATE:20260701
DTEND;VALUE=DATE:20260702
DTSTAMP:20260424T180921
CREATED:20251103T155810Z
LAST-MODIFIED:20251106T161024Z
UID:10010999-1782864000-1782950399@geretapoubelle.ca
SUMMARY:Bac gris
DESCRIPTION:
URL:https://geretapoubelle.ca/collecte/bac-gris-82/2026-07-01/
CATEGORIES:Drummondville - Secteur H
ATTACH;FMTTYPE=image/png:https://geretapoubelle.ca/wp-content/uploads/2022/03/Bac-Gris.png
BEGIN:VALARM
TRIGGER:-PT9H
ACTION:DISPLAY
DESCRIPTION:Rappel : collecte des déchets dans 9 heures
END:VALARM
END:VEVENT
BEGIN:VEVENT
DTSTART;VALUE=DATE:20260703
DTEND;VALUE=DATE:20260704
DTSTAMP:20260424T180921
CREATED:20251103T161505Z
LAST-MODIFIED:20251103T210823Z
UID:10011413-1783036800-1783123199@geretapoubelle.ca
SUMMARY:Bac de récupération
DESCRIPTION:
URL:https://geretapoubelle.ca/collecte/bac-de-recuperation-31/2026-07-03/
CATEGORIES:Drummondville - Secteur H
ATTACH;FMTTYPE=image/png:https://geretapoubelle.ca/wp-content/uploads/2022/04/bac-recuperation_Plan-de-travail-1.png
BEGIN:VALARM
TRIGGER:-PT9H
ACTION:DISPLAY
DESCRIPTION:Rappel : collecte des déchets dans 9 heures
END:VALARM
END:VEVENT
BEGIN:VEVENT
DTSTART;VALUE=DATE:20260703
DTEND;VALUE=DATE:20260704
DTSTAMP:20260424T180921
CREATED:20251103T212010Z
LAST-MODIFIED:20251124T164111Z
UID:10011933-1783036800-1783123199@geretapoubelle.ca
SUMMARY:Bac brun
DESCRIPTION:
URL:https://geretapoubelle.ca/collecte/bac-brun-83/2026-07-03/
CATEGORIES:Drummondville - Secteur H
ATTACH;FMTTYPE=image/png:https://geretapoubelle.ca/wp-content/uploads/2022/07/img_bacBrun.png
BEGIN:VALARM
TRIGGER:-PT9H
ACTION:DISPLAY
DESCRIPTION:Rappel : collecte des déchets dans 9 heures
END:VALARM
END:VEVENT
BEGIN:VEVENT
DTSTART;VALUE=DATE:20260706
DTEND;VALUE=DATE:20260707
DTSTAMP:20260424T180921
CREATED:20251103T151018Z
LAST-MODIFIED:20251103T151018Z
UID:10010693-1783296000-1783382399@geretapoubelle.ca
SUMMARY:Encombrants volumineux
DESCRIPTION:
URL:https://geretapoubelle.ca/collecte/encombrants-volumineux-28/2026-07-06/
CATEGORIES:Drummondville - Secteur H
ATTACH;FMTTYPE=image/png:https://geretapoubelle.ca/wp-content/uploads/2022/11/Icone_Divan_Guide.png
BEGIN:VALARM
TRIGGER:-PT9H
ACTION:DISPLAY
DESCRIPTION:Rappel : collecte des déchets dans 9 heures
END:VALARM
END:VEVENT
BEGIN:VEVENT
DTSTART;VALUE=DATE:20260710
DTEND;VALUE=DATE:20260711
DTSTAMP:20260424T180921
CREATED:20251103T212010Z
LAST-MODIFIED:20251124T164111Z
UID:10011934-1783641600-1783727999@geretapoubelle.ca
SUMMARY:Bac brun
DESCRIPTION:
URL:https://geretapoubelle.ca/collecte/bac-brun-83/2026-07-10/
CATEGORIES:Drummondville - Secteur H
ATTACH;FMTTYPE=image/png:https://geretapoubelle.ca/wp-content/uploads/2022/07/img_bacBrun.png
BEGIN:VALARM
TRIGGER:-PT9H
ACTION:DISPLAY
DESCRIPTION:Rappel : collecte des déchets dans 9 heures
END:VALARM
END:VEVENT
BEGIN:VEVENT
DTSTART;VALUE=DATE:20260717
DTEND;VALUE=DATE:20260718
DTSTAMP:20260424T180921
CREATED:20251103T161505Z
LAST-MODIFIED:20251103T210823Z
UID:10011414-1784246400-1784332799@geretapoubelle.ca
SUMMARY:Bac de récupération
DESCRIPTION:
URL:https://geretapoubelle.ca/collecte/bac-de-recuperation-31/2026-07-17/
CATEGORIES:Drummondville - Secteur H
ATTACH;FMTTYPE=image/png:https://geretapoubelle.ca/wp-content/uploads/2022/04/bac-recuperation_Plan-de-travail-1.png
BEGIN:VALARM
TRIGGER:-PT9H
ACTION:DISPLAY
DESCRIPTION:Rappel : collecte des déchets dans 9 heures
END:VALARM
END:VEVENT
BEGIN:VEVENT
DTSTART;VALUE=DATE:20260717
DTEND;VALUE=DATE:20260718
DTSTAMP:20260424T180921
CREATED:20251103T212010Z
LAST-MODIFIED:20251124T164111Z
UID:10011935-1784246400-1784332799@geretapoubelle.ca
SUMMARY:Bac brun
DESCRIPTION:
URL:https://geretapoubelle.ca/collecte/bac-brun-83/2026-07-17/
CATEGORIES:Drummondville - Secteur H
ATTACH;FMTTYPE=image/png:https://geretapoubelle.ca/wp-content/uploads/2022/07/img_bacBrun.png
BEGIN:VALARM
TRIGGER:-PT9H
ACTION:DISPLAY
DESCRIPTION:Rappel : collecte des déchets dans 9 heures
END:VALARM
END:VEVENT
BEGIN:VEVENT
DTSTART;VALUE=DATE:20260722
DTEND;VALUE=DATE:20260723
DTSTAMP:20260424T180921
CREATED:20251103T155810Z
LAST-MODIFIED:20251106T161024Z
UID:10011000-1784678400-1784764799@geretapoubelle.ca
SUMMARY:Bac gris
DESCRIPTION:
URL:https://geretapoubelle.ca/collecte/bac-gris-82/2026-07-22/
CATEGORIES:Drummondville - Secteur H
ATTACH;FMTTYPE=image/png:https://geretapoubelle.ca/wp-content/uploads/2022/03/Bac-Gris.png
BEGIN:VALARM
TRIGGER:-PT9H
ACTION:DISPLAY
DESCRIPTION:Rappel : collecte des déchets dans 9 heures
END:VALARM
END:VEVENT
BEGIN:VEVENT
DTSTART;VALUE=DATE:20260724
DTEND;VALUE=DATE:20260725
DTSTAMP:20260424T180921
CREATED:20251103T212010Z
LAST-MODIFIED:20251124T164111Z
UID:10011936-1784851200-1784937599@geretapoubelle.ca
SUMMARY:Bac brun
DESCRIPTION:
URL:https://geretapoubelle.ca/collecte/bac-brun-83/2026-07-24/
CATEGORIES:Drummondville - Secteur H
ATTACH;FMTTYPE=image/png:https://geretapoubelle.ca/wp-content/uploads/2022/07/img_bacBrun.png
BEGIN:VALARM
TRIGGER:-PT9H
ACTION:DISPLAY
DESCRIPTION:Rappel : collecte des déchets dans 9 heures
END:VALARM
END:VEVENT
BEGIN:VEVENT
DTSTART;VALUE=DATE:20260731
DTEND;VALUE=DATE:20260801
DTSTAMP:20260424T180921
CREATED:20251103T161505Z
LAST-MODIFIED:20251103T210823Z
UID:10011415-1785456000-1785542399@geretapoubelle.ca
SUMMARY:Bac de récupération
DESCRIPTION:
URL:https://geretapoubelle.ca/collecte/bac-de-recuperation-31/2026-07-31/
CATEGORIES:Drummondville - Secteur H
ATTACH;FMTTYPE=image/png:https://geretapoubelle.ca/wp-content/uploads/2022/04/bac-recuperation_Plan-de-travail-1.png
BEGIN:VALARM
TRIGGER:-PT9H
ACTION:DISPLAY
DESCRIPTION:Rappel : collecte des déchets dans 9 heures
END:VALARM
END:VEVENT
BEGIN:VEVENT
DTSTART;VALUE=DATE:20260731
DTEND;VALUE=DATE:20260801
DTSTAMP:20260424T180921
CREATED:20251103T212010Z
LAST-MODIFIED:20251124T164111Z
UID:10011937-1785456000-1785542399@geretapoubelle.ca
SUMMARY:Bac brun
DESCRIPTION:
URL:https://geretapoubelle.ca/collecte/bac-brun-83/2026-07-31/
CATEGORIES:Drummondville - Secteur H
ATTACH;FMTTYPE=image/png:https://geretapoubelle.ca/wp-content/uploads/2022/07/img_bacBrun.png
BEGIN:VALARM
TRIGGER:-PT9H
ACTION:DISPLAY
DESCRIPTION:Rappel : collecte des déchets dans 9 heures
END:VALARM
END:VEVENT
END:VCALENDAR