BEGIN:VCALENDAR
VERSION:2.0
PRODID:-//Gère ta poubelle - ECPv6.15.18//NONSGML v1.0//EN
CALSCALE:GREGORIAN
METHOD:PUBLISH
X-ORIGINAL-URL:https://geretapoubelle.ca
X-WR-CALDESC:Évènements pour Gère ta poubelle
REFRESH-INTERVAL;VALUE=DURATION:PT1H
X-Robots-Tag:noindex
X-PUBLISHED-TTL:PT1H
BEGIN:VTIMEZONE
TZID:America/Toronto
BEGIN:DAYLIGHT
TZOFFSETFROM:-0500
TZOFFSETTO:-0400
TZNAME:EDT
DTSTART:20250309T070000
END:DAYLIGHT
BEGIN:STANDARD
TZOFFSETFROM:-0400
TZOFFSETTO:-0500
TZNAME:EST
DTSTART:20251102T060000
END:STANDARD
BEGIN:DAYLIGHT
TZOFFSETFROM:-0500
TZOFFSETTO:-0400
TZNAME:EDT
DTSTART:20260308T070000
END:DAYLIGHT
BEGIN:STANDARD
TZOFFSETFROM:-0400
TZOFFSETTO:-0500
TZNAME:EST
DTSTART:20261101T060000
END:STANDARD
BEGIN:DAYLIGHT
TZOFFSETFROM:-0500
TZOFFSETTO:-0400
TZNAME:EDT
DTSTART:20270314T070000
END:DAYLIGHT
BEGIN:STANDARD
TZOFFSETFROM:-0400
TZOFFSETTO:-0500
TZNAME:EST
DTSTART:20271107T060000
END:STANDARD
END:VTIMEZONE
BEGIN:VEVENT
DTSTART;VALUE=DATE:20260902
DTEND;VALUE=DATE:20260903
DTSTAMP:20260424T211553
CREATED:20251103T155810Z
LAST-MODIFIED:20251106T161024Z
UID:10011002-1788307200-1788393599@geretapoubelle.ca
SUMMARY:Bac gris
DESCRIPTION:
URL:https://geretapoubelle.ca/collecte/bac-gris-82/2026-09-02/
CATEGORIES:Drummondville - Secteur H
ATTACH;FMTTYPE=image/png:https://geretapoubelle.ca/wp-content/uploads/2022/03/Bac-Gris.png
BEGIN:VALARM
TRIGGER:-PT9H
ACTION:DISPLAY
DESCRIPTION:Rappel : collecte des déchets dans 9 heures
END:VALARM
END:VEVENT
BEGIN:VEVENT
DTSTART;VALUE=DATE:20260904
DTEND;VALUE=DATE:20260905
DTSTAMP:20260424T211553
CREATED:20251103T212010Z
LAST-MODIFIED:20251124T164111Z
UID:10011942-1788480000-1788566399@geretapoubelle.ca
SUMMARY:Bac brun
DESCRIPTION:
URL:https://geretapoubelle.ca/collecte/bac-brun-83/2026-09-04/
CATEGORIES:Drummondville - Secteur H
ATTACH;FMTTYPE=image/png:https://geretapoubelle.ca/wp-content/uploads/2022/07/img_bacBrun.png
BEGIN:VALARM
TRIGGER:-PT9H
ACTION:DISPLAY
DESCRIPTION:Rappel : collecte des déchets dans 9 heures
END:VALARM
END:VEVENT
BEGIN:VEVENT
DTSTART;VALUE=DATE:20260911
DTEND;VALUE=DATE:20260912
DTSTAMP:20260424T211553
CREATED:20251103T161505Z
LAST-MODIFIED:20251103T210823Z
UID:10011418-1789084800-1789171199@geretapoubelle.ca
SUMMARY:Bac de récupération
DESCRIPTION:
URL:https://geretapoubelle.ca/collecte/bac-de-recuperation-31/2026-09-11/
CATEGORIES:Drummondville - Secteur H
ATTACH;FMTTYPE=image/png:https://geretapoubelle.ca/wp-content/uploads/2022/04/bac-recuperation_Plan-de-travail-1.png
BEGIN:VALARM
TRIGGER:-PT9H
ACTION:DISPLAY
DESCRIPTION:Rappel : collecte des déchets dans 9 heures
END:VALARM
END:VEVENT
BEGIN:VEVENT
DTSTART;VALUE=DATE:20260911
DTEND;VALUE=DATE:20260912
DTSTAMP:20260424T211553
CREATED:20251103T212010Z
LAST-MODIFIED:20251124T164111Z
UID:10011943-1789084800-1789171199@geretapoubelle.ca
SUMMARY:Bac brun
DESCRIPTION:
URL:https://geretapoubelle.ca/collecte/bac-brun-83/2026-09-11/
CATEGORIES:Drummondville - Secteur H
ATTACH;FMTTYPE=image/png:https://geretapoubelle.ca/wp-content/uploads/2022/07/img_bacBrun.png
BEGIN:VALARM
TRIGGER:-PT9H
ACTION:DISPLAY
DESCRIPTION:Rappel : collecte des déchets dans 9 heures
END:VALARM
END:VEVENT
BEGIN:VEVENT
DTSTART;VALUE=DATE:20260918
DTEND;VALUE=DATE:20260919
DTSTAMP:20260424T211553
CREATED:20251103T212010Z
LAST-MODIFIED:20251124T164111Z
UID:10011944-1789689600-1789775999@geretapoubelle.ca
SUMMARY:Bac brun
DESCRIPTION:
URL:https://geretapoubelle.ca/collecte/bac-brun-83/2026-09-18/
CATEGORIES:Drummondville - Secteur H
ATTACH;FMTTYPE=image/png:https://geretapoubelle.ca/wp-content/uploads/2022/07/img_bacBrun.png
BEGIN:VALARM
TRIGGER:-PT9H
ACTION:DISPLAY
DESCRIPTION:Rappel : collecte des déchets dans 9 heures
END:VALARM
END:VEVENT
BEGIN:VEVENT
DTSTART;VALUE=DATE:20260923
DTEND;VALUE=DATE:20260924
DTSTAMP:20260424T211553
CREATED:20251103T155810Z
LAST-MODIFIED:20251106T161024Z
UID:10011003-1790121600-1790207999@geretapoubelle.ca
SUMMARY:Bac gris
DESCRIPTION:
URL:https://geretapoubelle.ca/collecte/bac-gris-82/2026-09-23/
CATEGORIES:Drummondville - Secteur H
ATTACH;FMTTYPE=image/png:https://geretapoubelle.ca/wp-content/uploads/2022/03/Bac-Gris.png
BEGIN:VALARM
TRIGGER:-PT9H
ACTION:DISPLAY
DESCRIPTION:Rappel : collecte des déchets dans 9 heures
END:VALARM
END:VEVENT
BEGIN:VEVENT
DTSTART;VALUE=DATE:20260925
DTEND;VALUE=DATE:20260926
DTSTAMP:20260424T211553
CREATED:20251103T161505Z
LAST-MODIFIED:20251103T210823Z
UID:10011419-1790294400-1790380799@geretapoubelle.ca
SUMMARY:Bac de récupération
DESCRIPTION:
URL:https://geretapoubelle.ca/collecte/bac-de-recuperation-31/2026-09-25/
CATEGORIES:Drummondville - Secteur H
ATTACH;FMTTYPE=image/png:https://geretapoubelle.ca/wp-content/uploads/2022/04/bac-recuperation_Plan-de-travail-1.png
BEGIN:VALARM
TRIGGER:-PT9H
ACTION:DISPLAY
DESCRIPTION:Rappel : collecte des déchets dans 9 heures
END:VALARM
END:VEVENT
BEGIN:VEVENT
DTSTART;VALUE=DATE:20260925
DTEND;VALUE=DATE:20260926
DTSTAMP:20260424T211553
CREATED:20251103T212010Z
LAST-MODIFIED:20251124T164111Z
UID:10011945-1790294400-1790380799@geretapoubelle.ca
SUMMARY:Bac brun
DESCRIPTION:
URL:https://geretapoubelle.ca/collecte/bac-brun-83/2026-09-25/
CATEGORIES:Drummondville - Secteur H
ATTACH;FMTTYPE=image/png:https://geretapoubelle.ca/wp-content/uploads/2022/07/img_bacBrun.png
BEGIN:VALARM
TRIGGER:-PT9H
ACTION:DISPLAY
DESCRIPTION:Rappel : collecte des déchets dans 9 heures
END:VALARM
END:VEVENT
END:VCALENDAR