BEGIN:VCALENDAR
VERSION:2.0
PRODID:-//Gère ta poubelle - ECPv6.15.18//NONSGML v1.0//EN
CALSCALE:GREGORIAN
METHOD:PUBLISH
X-WR-CALNAME:Gère ta poubelle
X-ORIGINAL-URL:https://geretapoubelle.ca
X-WR-CALDESC:Évènements pour Gère ta poubelle
REFRESH-INTERVAL;VALUE=DURATION:PT1H
X-Robots-Tag:noindex
X-PUBLISHED-TTL:PT1H
BEGIN:VTIMEZONE
TZID:America/Toronto
BEGIN:DAYLIGHT
TZOFFSETFROM:-0500
TZOFFSETTO:-0400
TZNAME:EDT
DTSTART:20240310T070000
END:DAYLIGHT
BEGIN:STANDARD
TZOFFSETFROM:-0400
TZOFFSETTO:-0500
TZNAME:EST
DTSTART:20241103T060000
END:STANDARD
BEGIN:DAYLIGHT
TZOFFSETFROM:-0500
TZOFFSETTO:-0400
TZNAME:EDT
DTSTART:20250309T070000
END:DAYLIGHT
BEGIN:STANDARD
TZOFFSETFROM:-0400
TZOFFSETTO:-0500
TZNAME:EST
DTSTART:20251102T060000
END:STANDARD
BEGIN:DAYLIGHT
TZOFFSETFROM:-0500
TZOFFSETTO:-0400
TZNAME:EDT
DTSTART:20260308T070000
END:DAYLIGHT
BEGIN:STANDARD
TZOFFSETFROM:-0400
TZOFFSETTO:-0500
TZNAME:EST
DTSTART:20261101T060000
END:STANDARD
END:VTIMEZONE
BEGIN:VEVENT
DTSTART;VALUE=DATE:20250905
DTEND;VALUE=DATE:20250906
DTSTAMP:20260423T122831
CREATED:20241204T150842Z
LAST-MODIFIED:20241204T151844Z
UID:10008759-1757030400-1757116799@geretapoubelle.ca
SUMMARY:Bac gris
DESCRIPTION:
URL:https://geretapoubelle.ca/collecte/bac-gris-15/2025-09-05/
CATEGORIES:Durham-Sud
ATTACH;FMTTYPE=image/png:https://geretapoubelle.ca/wp-content/uploads/2022/03/Bac-Gris.png
BEGIN:VALARM
TRIGGER:-PT9H
ACTION:DISPLAY
DESCRIPTION:Rappel : collecte des déchets dans 9 heures
END:VALARM
END:VEVENT
BEGIN:VEVENT
DTSTART;VALUE=DATE:20250912
DTEND;VALUE=DATE:20250913
DTSTAMP:20260423T122831
CREATED:20241204T152009Z
LAST-MODIFIED:20241210T184538Z
UID:10008786-1757635200-1757721599@geretapoubelle.ca
SUMMARY:Bac de récupération
DESCRIPTION:
URL:https://geretapoubelle.ca/collecte/bac-de-recuperation-9/2025-09-12/
CATEGORIES:Durham-Sud
ATTACH;FMTTYPE=image/png:https://geretapoubelle.ca/wp-content/uploads/2022/04/bac-recuperation_Plan-de-travail-1.png
BEGIN:VALARM
TRIGGER:-PT9H
ACTION:DISPLAY
DESCRIPTION:Rappel : collecte des déchets dans 9 heures
END:VALARM
END:VEVENT
BEGIN:VEVENT
DTSTART;VALUE=DATE:20250919
DTEND;VALUE=DATE:20250920
DTSTAMP:20260423T122831
CREATED:20241204T150842Z
LAST-MODIFIED:20241204T151844Z
UID:10008760-1758240000-1758326399@geretapoubelle.ca
SUMMARY:Bac gris
DESCRIPTION:
URL:https://geretapoubelle.ca/collecte/bac-gris-15/2025-09-19/
CATEGORIES:Durham-Sud
ATTACH;FMTTYPE=image/png:https://geretapoubelle.ca/wp-content/uploads/2022/03/Bac-Gris.png
BEGIN:VALARM
TRIGGER:-PT9H
ACTION:DISPLAY
DESCRIPTION:Rappel : collecte des déchets dans 9 heures
END:VALARM
END:VEVENT
BEGIN:VEVENT
DTSTART;VALUE=DATE:20250926
DTEND;VALUE=DATE:20250927
DTSTAMP:20260423T122831
CREATED:20241204T152009Z
LAST-MODIFIED:20241210T184538Z
UID:10008787-1758844800-1758931199@geretapoubelle.ca
SUMMARY:Bac de récupération
DESCRIPTION:
URL:https://geretapoubelle.ca/collecte/bac-de-recuperation-9/2025-09-26/
CATEGORIES:Durham-Sud
ATTACH;FMTTYPE=image/png:https://geretapoubelle.ca/wp-content/uploads/2022/04/bac-recuperation_Plan-de-travail-1.png
BEGIN:VALARM
TRIGGER:-PT9H
ACTION:DISPLAY
DESCRIPTION:Rappel : collecte des déchets dans 9 heures
END:VALARM
END:VEVENT
END:VCALENDAR