BEGIN:VCALENDAR
VERSION:2.0
PRODID:-//Gère ta poubelle - ECPv6.15.18//NONSGML v1.0//EN
CALSCALE:GREGORIAN
METHOD:PUBLISH
X-WR-CALNAME:Gère ta poubelle
X-ORIGINAL-URL:https://geretapoubelle.ca
X-WR-CALDESC:Évènements pour Gère ta poubelle
REFRESH-INTERVAL;VALUE=DURATION:PT1H
X-Robots-Tag:noindex
X-PUBLISHED-TTL:PT1H
BEGIN:VTIMEZONE
TZID:America/Toronto
BEGIN:DAYLIGHT
TZOFFSETFROM:-0500
TZOFFSETTO:-0400
TZNAME:EDT
DTSTART:20250309T070000
END:DAYLIGHT
BEGIN:STANDARD
TZOFFSETFROM:-0400
TZOFFSETTO:-0500
TZNAME:EST
DTSTART:20251102T060000
END:STANDARD
BEGIN:DAYLIGHT
TZOFFSETFROM:-0500
TZOFFSETTO:-0400
TZNAME:EDT
DTSTART:20260308T070000
END:DAYLIGHT
BEGIN:STANDARD
TZOFFSETFROM:-0400
TZOFFSETTO:-0500
TZNAME:EST
DTSTART:20261101T060000
END:STANDARD
BEGIN:DAYLIGHT
TZOFFSETFROM:-0500
TZOFFSETTO:-0400
TZNAME:EDT
DTSTART:20270314T070000
END:DAYLIGHT
BEGIN:STANDARD
TZOFFSETFROM:-0400
TZOFFSETTO:-0500
TZNAME:EST
DTSTART:20271107T060000
END:STANDARD
END:VTIMEZONE
BEGIN:VEVENT
DTSTART;VALUE=DATE:20260501
DTEND;VALUE=DATE:20260502
DTSTAMP:20260421T042715
CREATED:20251211T135605Z
LAST-MODIFIED:20251216T210112Z
UID:10012021-1777593600-1777679999@geretapoubelle.ca
SUMMARY:Bac gris
DESCRIPTION:
URL:https://geretapoubelle.ca/collecte/bac-gris-84/2026-05-01/
CATEGORIES:Durham-Sud
ATTACH;FMTTYPE=image/png:https://geretapoubelle.ca/wp-content/uploads/2022/03/Bac-Gris.png
BEGIN:VALARM
TRIGGER:-PT9H
ACTION:DISPLAY
DESCRIPTION:Rappel : collecte des déchets dans 9 heures
END:VALARM
END:VEVENT
BEGIN:VEVENT
DTSTART;VALUE=DATE:20260508
DTEND;VALUE=DATE:20260509
DTSTAMP:20260421T042715
CREATED:20251217T134929Z
LAST-MODIFIED:20251217T134929Z
UID:10013653-1778198400-1778284799@geretapoubelle.ca
SUMMARY:Bac de récupération
DESCRIPTION:
URL:https://geretapoubelle.ca/collecte/bac-de-recuperation-48/2026-05-08/
CATEGORIES:Durham-Sud
ATTACH;FMTTYPE=image/png:https://geretapoubelle.ca/wp-content/uploads/2022/04/bac-recuperation_Plan-de-travail-1.png
BEGIN:VALARM
TRIGGER:-PT9H
ACTION:DISPLAY
DESCRIPTION:Rappel : collecte des déchets dans 9 heures
END:VALARM
END:VEVENT
BEGIN:VEVENT
DTSTART;VALUE=DATE:20260515
DTEND;VALUE=DATE:20260516
DTSTAMP:20260421T042715
CREATED:20251211T135605Z
LAST-MODIFIED:20251216T210112Z
UID:10012022-1778803200-1778889599@geretapoubelle.ca
SUMMARY:Bac gris
DESCRIPTION:
URL:https://geretapoubelle.ca/collecte/bac-gris-84/2026-05-15/
CATEGORIES:Durham-Sud
ATTACH;FMTTYPE=image/png:https://geretapoubelle.ca/wp-content/uploads/2022/03/Bac-Gris.png
BEGIN:VALARM
TRIGGER:-PT9H
ACTION:DISPLAY
DESCRIPTION:Rappel : collecte des déchets dans 9 heures
END:VALARM
END:VEVENT
BEGIN:VEVENT
DTSTART;VALUE=DATE:20260515
DTEND;VALUE=DATE:20260516
DTSTAMP:20260421T042715
CREATED:20251211T141138Z
LAST-MODIFIED:20251211T141138Z
UID:10012039-1778803200-1778889599@geretapoubelle.ca
SUMMARY:Encombrants
DESCRIPTION:
URL:https://geretapoubelle.ca/collecte/encombrants-48/2026-05-15/
CATEGORIES:Durham-Sud
ATTACH;FMTTYPE=image/png:https://geretapoubelle.ca/wp-content/uploads/2022/11/Icone_Divan_Guide.png
BEGIN:VALARM
TRIGGER:-PT9H
ACTION:DISPLAY
DESCRIPTION:Rappel : collecte des déchets dans 9 heures
END:VALARM
END:VEVENT
BEGIN:VEVENT
DTSTART;VALUE=DATE:20260522
DTEND;VALUE=DATE:20260523
DTSTAMP:20260421T042715
CREATED:20251217T134929Z
LAST-MODIFIED:20251217T134929Z
UID:10013654-1779408000-1779494399@geretapoubelle.ca
SUMMARY:Bac de récupération
DESCRIPTION:
URL:https://geretapoubelle.ca/collecte/bac-de-recuperation-48/2026-05-22/
CATEGORIES:Durham-Sud
ATTACH;FMTTYPE=image/png:https://geretapoubelle.ca/wp-content/uploads/2022/04/bac-recuperation_Plan-de-travail-1.png
BEGIN:VALARM
TRIGGER:-PT9H
ACTION:DISPLAY
DESCRIPTION:Rappel : collecte des déchets dans 9 heures
END:VALARM
END:VEVENT
BEGIN:VEVENT
DTSTART;VALUE=DATE:20260529
DTEND;VALUE=DATE:20260530
DTSTAMP:20260421T042715
CREATED:20251211T135605Z
LAST-MODIFIED:20251216T210112Z
UID:10012023-1780012800-1780099199@geretapoubelle.ca
SUMMARY:Bac gris
DESCRIPTION:
URL:https://geretapoubelle.ca/collecte/bac-gris-84/2026-05-29/
CATEGORIES:Durham-Sud
ATTACH;FMTTYPE=image/png:https://geretapoubelle.ca/wp-content/uploads/2022/03/Bac-Gris.png
BEGIN:VALARM
TRIGGER:-PT9H
ACTION:DISPLAY
DESCRIPTION:Rappel : collecte des déchets dans 9 heures
END:VALARM
END:VEVENT
END:VCALENDAR